BEGIN:VCALENDAR
PRODID:-//eluceo/ical//2.0/EN
VERSION:2.0
CALSCALE:GREGORIAN
BEGIN:VEVENT
UID:event-290
DTSTAMP:20260424T192152Z
SUMMARY:Lasergamen
DESCRIPTION:Op donderdag 1 december zal de winteractiviteit plaatsvinden en
  dit jaar gaan we lasergamen! Voor 7\,50 speel je 2 sessies lasergame en k
 rijg je 2 drankjes tijdens de pauze. De activiteit zal rond 20:30u eindige
 n en we zullen ons daarna gezamenlijk verplaatsen naar de Sinterklaasborre
 l bij VINN. Dus heb jij zin in een avond vol gezelligheid? Schrijf je dan 
 snel in!
DTSTART:20221201T174500Z
DTEND:20221201T193000Z
END:VEVENT
BEGIN:VTIMEZONE
TZID:UTC
BEGIN:STANDARD
DTSTART:20221201T174500
TZNAME:UTC
TZOFFSETTO:+0000
TZOFFSETFROM:+0000
END:STANDARD
END:VTIMEZONE
END:VCALENDAR
